BEGIN:VCALENDAR
VERSION:2.0
PRODID:icalendar-ruby
CALSCALE:GREGORIAN
METHOD:PUBLISH
BEGIN:VEVENT
DTSTAMP:20260420T090300Z
UID:https://www.mpie.de/events/44414/3755656
DTSTART:20260123T123000Z
DTEND:20260123T133000Z
CLASS:PUBLIC
CREATED:20260116T112020Z
DESCRIPTION:The diversities in crystalline structure and the hierarchical f
 eatures of the structures in steels lead to their distinguished deformatio
 n behaviour\, elastic properties\, magnetic properties\, mechanical proper
 ties\, etc. In the research of steels\, the linkage of structure-processin
 g-property-performance-circularity is considered as the very important pri
 nciple to understand the alloys. Following this basic principle\, one can 
 further design\, select and assess suitable materials for a specific appli
 cation. Over the last decades\, based on multi-scale understanding - from 
 metre to micrometre and further down to nanometre and atomic-scale\, a num
 ber of extraordinary steels have been successfully developed and commonly 
 applied globally. This research work will present the alloy design\, multi
 -scale characterization and nano-engineering approaches that offer new opp
 ortunities to design and engineer the sustainable steels into hierarchical
  structures with tailored properties. New approach that aid controlling th
 e process of phase transformation in tramp element tolerant steels will be
  discussed.\nSpeaker: Univ.-Prof. Wenwen Song
LAST-MODIFIED:20260127T124312Z
LOCATION:Max Planck Institute for Sustainable Materials\, Room: Large Confe
 rence Room No. 203
ORGANIZER;CN=on invitation of Prof. Gerhard Dehm:mailto:
SUMMARY:Nanoengineering of high strength steels
URL;VALUE=URI:https://www.mpie.de/events/44414/3755656
END:VEVENT
END:VCALENDAR
